BEGIN:VCALENDAR
VERSION:2.0
PRODID:-//Nateco Foundation  - ECPv6.15.20//NONSGML v1.0//EN
CALSCALE:GREGORIAN
METHOD:PUBLISH
X-ORIGINAL-URL:https://natecofoundation.org
X-WR-CALDESC:Events for Nateco Foundation 
REFRESH-INTERVAL;VALUE=DURATION:PT1H
X-Robots-Tag:noindex
X-PUBLISHED-TTL:PT1H
BEGIN:VTIMEZONE
TZID:UTC
BEGIN:STANDARD
TZOFFSETFROM:+0000
TZOFFSETTO:+0000
TZNAME:UTC
DTSTART:20230101T000000
END:STANDARD
END:VTIMEZONE
BEGIN:VEVENT
DTSTART;TZID=UTC:20240930T080000
DTEND;TZID=UTC:20241001T170000
DTSTAMP:20260423T163616
CREATED:20250306T054950Z
LAST-MODIFIED:20250307T082650Z
UID:3157-1727683200-1727802000@natecofoundation.org
SUMMARY:Foundation Trip
DESCRIPTION:Together\, we can make a difference! The Nateco Foundation Trip is a unique opportunity to experience the beauty of the world while contributing to communities in need. Travel with heart\, give with love\, and inspire change! \nAt Nateco Foundation\, we believe that true journeys are not just about miles traveled but about lives touched. Our Foundation Trip is more than an adventure—it’s a mission to empower communities\, bring hope to those in need\, and create a world where kindness leads the way. From supporting education and healthcare to uplifting underprivileged communities\, every step you take with us is a step toward change. Travel not just to see the world\, but to transform it. Because when we come together with purpose\, we don’t just explore—we inspire\, we give\, and we leave a legacy of compassion and impact
URL:https://natecofoundation.org/event/foundation-trip/
CATEGORIES:Foundation Trip
ATTACH;FMTTYPE=image/png:https://natecofoundation.org/wp-content/uploads/2025/03/c51f17f6-32fd-4daf-8e13-682dcad3c67e.png
END:VEVENT
END:VCALENDAR